BEGIN:VCALENDAR
VERSION:2.0
PRODID:-//Wushu Bond Nederland - ECPv6.15.20//NONSGML v1.0//EN
CALSCALE:GREGORIAN
METHOD:PUBLISH
X-WR-CALNAME:Wushu Bond Nederland
X-ORIGINAL-URL:https://www.wushubond.nl
X-WR-CALDESC:Evenementen voor Wushu Bond Nederland
REFRESH-INTERVAL;VALUE=DURATION:PT1H
X-Robots-Tag:noindex
X-PUBLISHED-TTL:PT1H
BEGIN:VTIMEZONE
TZID:Europe/Amsterdam
BEGIN:DAYLIGHT
TZOFFSETFROM:+0100
TZOFFSETTO:+0200
TZNAME:CEST
DTSTART:20240331T010000
END:DAYLIGHT
BEGIN:STANDARD
TZOFFSETFROM:+0200
TZOFFSETTO:+0100
TZNAME:CET
DTSTART:20241027T010000
END:STANDARD
BEGIN:DAYLIGHT
TZOFFSETFROM:+0100
TZOFFSETTO:+0200
TZNAME:CEST
DTSTART:20250330T010000
END:DAYLIGHT
BEGIN:STANDARD
TZOFFSETFROM:+0200
TZOFFSETTO:+0100
TZNAME:CET
DTSTART:20251026T010000
END:STANDARD
BEGIN:DAYLIGHT
TZOFFSETFROM:+0100
TZOFFSETTO:+0200
TZNAME:CEST
DTSTART:20260329T010000
END:DAYLIGHT
BEGIN:STANDARD
TZOFFSETFROM:+0200
TZOFFSETTO:+0100
TZNAME:CET
DTSTART:20261025T010000
END:STANDARD
END:VTIMEZONE
BEGIN:VEVENT
DTSTART;TZID=Europe/Amsterdam:20251115T000000
DTEND;TZID=Europe/Amsterdam:20251115T235959
DTSTAMP:20260422T214725
CREATED:20250527T083610Z
LAST-MODIFIED:20250527T083610Z
UID:104-1763164800-1763251199@www.wushubond.nl
SUMMARY:Open Dutch Wushu Championships 2025
DESCRIPTION:
URL:https://www.wushubond.nl/kalender/open-dutch-wushu-championships-2025/
LOCATION:Sporthal Varenbeuk\, Hei Carisborgweg 19\, Heerlen\, 6414 NK\, Netherlands
ATTACH;FMTTYPE=image/jpeg:https://www.wushubond.nl/wp-content/uploads/2025/05/FB_IMG_1748334665667.jpg
END:VEVENT
END:VCALENDAR